Workbook

Sheet Főösszesítő
A2: Móricz Tornaterem kazánház rekonstrukció
A3: 6726 Szeged, Déryné utca 7.
A5: Épületgépészet
A7: Költségvetés főösszesítő
A9: Megnevezés | C9: Anyagköltség | D9: Díjköltség
A10: 1 Építmény közvetlen költségei | C10: ='Munkanem összesítő'!C7 -> 0 | D10: ='Munkanem összesítő'!D7 -> 0
A11: 2.1 ÁFA vetítési alap | C11: =ROUND(C10+D10,0) -> 0
A12: 2.2 ÁFA | B12: 0.27 | C12: =ROUND(C11*B12,0) -> 0
A13: 3 A munka ára (HUF) | C13: =ROUND(C12+C11,0) -> 0
A15: A költségvetési kiírási tételek mennyiségét a kivitelezés előtt ellenőrizni szükséges. A költségvetés tájékoztató jellegű, a kiviteli terv a mérvadó. A költségvetésben szereplő tételek árazásakor az egységárban szerepeltetni kell minden tételt, amely a elvégzéséhez szükséges. A költségvetésben szereplő gyártmányok minőségi szinvonalat jelölnek.
C19: Cégszerű aláírás

Sheet Munkanem összesítő
B1: Megnevezés | C1: Anyagköltség | D1: Díjköltség
B3: Fűtés szerelés | C3: =FŰTÉS!H52 -> 0 | D3: =FŰTÉS!I52 -> 0
B5: Gázszerelés | C5: =GÁZ!H27 -> 0 | D5: =GÁZ!I27 -> 0
B7: Összesen (HUF) | C7: =ROUND(SUM(C2:C6),0) -> 0 | D7: =ROUND(SUM(D2:D6),0) -> 0

Sheet FŰTÉS
A1: Ssz. | B1: Tételszám | C1: Tétel szövege | D1: Menny. | E1: Egység | F1: Anyag egységár | G1: Díj egységre | H1: Anyag összesen | I1: Díj összesen
A2: 1 | B2: 19-010-1.21.1 | C2: Általános teendők, befejezés szakaszában, átadás - átvétel, jegyzőkönyv elkészítése | D2: 1 | E2: db | H2: =ROUND(F2*D2,0) -> 0 | I2: =ROUND(G2*D2,0) -> 0
A3: 2 | B3: 19-010-1.21.4 | C3: Általános teendők, befejezés szakaszában, kezelő személyzet oktatása | D3: 1 | E3: db | H3: =ROUND(F3*D3,0) -> 0 | I3: =ROUND(G3*D3,0) -> 0
A4: 3 | B4: 82-016-12.4 | C4: Kazánház, illetve hőközpont beszabályozása, beüzemelése, hidraulikai beszabályozás, 69.781 -139.560 W teljesítmény között | D4: 1 | E4: db | H4: =ROUND(F4*D4,0) -> 0 | I4: =ROUND(G4*D4,0) -> 0
A5: 4 | B5: 81-000-1.6 | C5: Csővezetékek bontása, vízvezeték elzárás és nyitás, javítási munkák előtt és után | D5: 1 | E5: db | H5: =ROUND(F5*D5,0) -> 0 | I5: =ROUND(G5*D5,0) -> 0
A6: 5 | B6: 82-000-4.2.1.1 | C6: Gáz- és fűtésszerelési berendezési tárgyak leszerelése, fűtésszerelési berendezési tárgyak kazánok 60 kW-ig, Hőterm 41 ESB | D6: 2 | E6: db | H6: =ROUND(F6*D6,0) -> 0 | I6: =ROUND(G6*D6,0) -> 0
A7: 6 | B7: 82-000-4.2.2.2 | C7: Gáz- és fűtésszerelési berendezési tárgyak leszerelése, fűtésszerelési berendezési tárgyak melegvíztárolók, 201-500 liter között | D7: 1 | E7: db | H7: =ROUND(F7*D7,0) -> 0 | I7: =ROUND(G7*D7,0) -> 0
A8: 7 | B8: 82-000-1.2.1 | C8: Szerelvények leszerelése, menetes szerelvények, DN 50 méretig | D8: 25 | E8: db | H8: =ROUND(F8*D8,0) -> 0 | I8: =ROUND(G8*D8,0) -> 0
A9: 8 | B9: 82-000-4.2.8 | C9: Gáz- és fűtésszerelési berendezési tárgyak leszerelése, fűtésszerelési berendezési tárgyak szivattyú Wilo RS 30/80 R | D9: 1 | E9: db | H9: =ROUND(F9*D9,0) -> 0 | I9: =ROUND(G9*D9,0) -> 0
A10: 9 | B10: 81-000-1.1.1 | C10: Csővezetékek bontása, horganyzott vagy fekete acélcsövek tartószerkezetről, vagy padlócsatornából lángvágással, deponálással, DN 50 méretig | D10: 15 | E10: m | H10: =ROUND(F10*D10,0) -> 0 | I10: =ROUND(G10*D10,0) -> 0
A11: 10 | B11: 80-000-6.2 | C11: Kőzetgyapot lamell bontása, öntapadós, NÁ 108 mm csőátmérőig | D11: 15 | E11: m | H11: =ROUND(F11*D11,0) -> 0 | I11: =ROUND(G11*D11,0) -> 0
A12: 11 | B12: 83-000-2.1 | C12: Gépek, berendezések bontása, 500 kg/db alatti súly esetén, vészventilátor elbontása a külső fali rács nélkül | D12: 1 | E12: db | H12: =ROUND(F12*D12,0) -> 0 | I12: =ROUND(G12*D12,0) -> 0
A13: 12 | B13: 54-016-8.1 | C13: Csővezetékek tisztítása mosatással, leengedése, feltöltése, többszöri átmosatása, DN 200 méretig, kb.1,5 m3 | D13: 1 | E13: klt | H13: =ROUND(F13*D13,0) -> 0 | I13: =ROUND(G13*D13,0) -> 0
... A51: 50 | B51: 81-012-1.1.3-0220204 | C51: Csatalkozás meglévő hideg-melegviz hálózatra, rendszer kiszakolázával. | D51: 2 | E51: db | H51: =ROUND(F51*D51,0) -> 0 | I51: =ROUND(G51*D51,0) -> 0
C52: Építmény közvetlen költségei (HUF) | H52: =ROUND(SUM(H2:H51),0) -> 0 | I52: =ROUND(SUM(I2:I51),0) -> 0

Sheet GÁZ
A1: Ssz. | B1: Tételszám | C1: Tétel szövege | D1: Menny. | E1: Egység | F1: Anyag egységár | G1: Díj egységre | H1: Anyag összesen | I1: Díj összesen
A2: 1 | B2: 19-010-1.21.1 | C2: Általános teendők, befejezés szakaszában, átadás - átvétel, jegyzőkönyv elkészítése | D2: 1 | E2: db | H2: =ROUND(F2*D2,0) -> 0 | I2: =ROUND(G2*D2,0) -> 0
A3: 2 | B3: 19-010-1.21.2 | C3: Általános teendők, befejezés szakaszában, megvalósulási tervdokumentáció elkészítése | D3: 1 | E3: db | H3: =ROUND(F3*D3,0) -> 0 | I3: =ROUND(G3*D3,0) -> 0
A4: 3 | B4: 19-037-1.1 | C4: Kémények vizsgálata, huzatvizsgálat, tömörségi próba és alkalmassági szakvélemény, 2 db | D4: 1 | E4: db | H4: =ROUND(F4*D4,0) -> 0 | I4: =ROUND(G4*D4,0) -> 0
A5: 4 | B5: 54-016-5.1 | C5: Gázvezeték szakaszos és hálózati tömörségi és szilárdsági nyomáspróbája | D5: 1 | E5: klt | H5: =ROUND(F5*D5,0) -> 0 | I5: =ROUND(G5*D5,0) -> 0
A6: 5 | B6: 19-010-1.21.1 | C6: Általános teendők, befejezés szakaszában, Tervezői gáz MEO és tervezői művezetés | D6: 1 | E6: db | H6: =ROUND(F6*D6,0) -> 0 | I6: =ROUND(G6*D6,0) -> 0
A7: 6 | B7: 81-000-1.1.1 | C7: Csővezetékek bontása, horganyzott vagy fekete acélcsövek tartószerkezetről, vagy padlócsatornából lángvágással, deponálással, DN 50 méretig | D7: 15 | E7: m | H7: =ROUND(F7*D7,0) -> 0 | I7: =ROUND(G7*D7,0) -> 0
A8: 7 | B8: 82-000-1.2.1 | C8: Szerelvények leszerelése, menetes szerelvények, DN 50 méretig | D8: 1 | E8: db | H8: =ROUND(F8*D8,0) -> 0 | I8: =ROUND(G8*D8,0) -> 0
A9: 8 | B9: 82-000-4.1.1 | C9: Gáz- és fűtésszerelési berendezési tárgyak leszerelése, gázszerelési berendezési tárgyak, aluminium kémény bontása, kb.15 m | D9: 1 | E9: klt | H9: =ROUND(F9*D9,0) -> 0 | I9: =ROUND(G9*D9,0) -> 0
A10: 9 | B10: 82-000-4.1.1 | C10: Gáz- és fűtésszerelési berendezési tárgyak leszerelése, gázszerelési berendezési tárgyak, épített kémény tetején Meidinger-tárcsa bontása | D10: 2 | E10: db | H10: =ROUND(F10*D10,0) -> 0 | I10: =ROUND(G10*D10,0) -> 0
A11: 10 | B11: 82-000-2 | C11: Víz és gáz mérőhelyek szerelvényeinek leszerelése, meglévő Metrix G16 gázmérő (átalakítás idejére a gázmérőt el kell vitetni, majd a mérőt vissza kell hozatni a Szolgáltatóval) | D11: 1 | E11: db | H11: =ROUND(F11*D11,0) -> 0 | I11: =ROUND(G11*D11,0) -> 0
A12: 11 | B12: 81-003-1.2.1.1.1.1.6-0110122 | C12: Gázvezeték, Fekete acélcső szerelése, hegesztett kötésekkel, cső elhelyezése szakaszos nyomáspróbával, szabadon, tartószerkezettel, csőátmérő DN 100-méretig, DN 50, Normálfalú, varratnélküli fekete acélcső, sima, A 37X 2", 60,3x3,6mm | D12: 10 | E12: m | H12: =ROUND(F12*D12,0) -> 0 | I12: =ROUND(G12*D12,0) -> 0
A13: 12 | B13: 47-000-4.4.5.1-0136106 | C13: Acélfelületek mázolásának előkészítő és részmunkái; kézi rozsdamentesítés, cső és regisztercső felületén, (80 NÁ-ig), függesztő és tartószerkezeten, állványzaton, könnyű rozsdásodás esetén, Trinát szintetikus hígító 1002, EAN: 5995061571956 | D13: 10 | E13: m | H13: =ROUND(F13*D13,0) -> 0 | I13: =ROUND(G13*D13,0) -> 0
... A26: 25 | B26: 82-016-14.1.3 | C26: Füstgázelvezetés (csövek, idomok) elhelyezése zárt égésterű, fűtési és/vagy használati melegvízkészítő kazánok részére, felszerelve, szerelőkőműves munka nélkül, füstcsövek, 80/80, 80/100, 80/110, 80/125 mm, Égéstermékcső 2 x 1,95m D=80 mm (PPs), cikkszám: 7194309 | D26: 3 | E26: db | H26: =ROUND(F26*D26,0) -> 0 | I26: =ROUND(G26*D26,0) -> 0
C27: Építmény közvetlen költségei (HUF) | H27: =ROUND(SUM(H2:H26),0) -> 0 | I27: =ROUND(SUM(I2:I26),0) -> 0
